BEGIN:VCALENDAR
VERSION:2.0
PRODID:-//Performing Arts Comox Valley - ECPv6.15.18//NONSGML v1.0//EN
CALSCALE:GREGORIAN
METHOD:PUBLISH
X-WR-CALNAME:Performing Arts Comox Valley
X-ORIGINAL-URL:https://performingartscomoxvalley.ca
X-WR-CALDESC:Events for Performing Arts Comox Valley
REFRESH-INTERVAL;VALUE=DURATION:PT1H
X-Robots-Tag:noindex
X-PUBLISHED-TTL:PT1H
BEGIN:VTIMEZONE
TZID:America/Vancouver
BEGIN:DAYLIGHT
TZOFFSETFROM:-0800
TZOFFSETTO:-0700
TZNAME:PDT
DTSTART:20250309T100000
END:DAYLIGHT
BEGIN:STANDARD
TZOFFSETFROM:-0700
TZOFFSETTO:-0800
TZNAME:PST
DTSTART:20251102T090000
END:STANDARD
BEGIN:DAYLIGHT
TZOFFSETFROM:-0800
TZOFFSETTO:-0700
TZNAME:PDT
DTSTART:20260308T100000
END:DAYLIGHT
BEGIN:STANDARD
TZOFFSETFROM:-0700
TZOFFSETTO:-0800
TZNAME:PST
DTSTART:20261101T090000
END:STANDARD
BEGIN:DAYLIGHT
TZOFFSETFROM:-0800
TZOFFSETTO:-0700
TZNAME:PDT
DTSTART:20270314T100000
END:DAYLIGHT
BEGIN:STANDARD
TZOFFSETFROM:-0700
TZOFFSETTO:-0800
TZNAME:PST
DTSTART:20271107T090000
END:STANDARD
END:VTIMEZONE
BEGIN:VEVENT
DTSTART;TZID=America/Vancouver:20260411T140000
DTEND;TZID=America/Vancouver:20260411T160000
DTSTAMP:20260422T122335
CREATED:20260325T183542Z
LAST-MODIFIED:20260325T183900Z
UID:4567-1775916000-1775923200@performingartscomoxvalley.ca
SUMMARY:Georgia Strait Big Band Fundraising Concert for L’Arche
DESCRIPTION:St George United Church’s 20th instalment of it’s fundraiser series “Concerts For The Common Good” will feature the Georgia Strait Big Band! This concert style show will feature two sets of big band era jazz music selected from GSBB’s impressive 300+ song repertoire.\n\nWe are excited to announce the non-profit beneficiary to share in the proceeds of this concert will be L’Arche!\n\nL’Arche\, which has been active in the Comox Valley for 25 years\, is a community of people with and without disabilities sharing life together. They are built on the core values of celebrating the unique value of each person\, revealing each others’ gifts and recognising our need for one another!\n\nTickets can be purchased online using the Eventbrite link\, or in person at Laughing Oyster Book Shop in CourtenayAdvance tickets:General admission – $20Youth (13-17) – $12Kids – FreeAny remaining tickets will be $25 at the door.
URL:https://performingartscomoxvalley.ca/event/georgia-strait-big-band-fundraising-concert-for-larche/
LOCATION:St Georges United Church\, 505 6th Street\, Courtenay\, BC\, V9N1M5\, Canada
CATEGORIES:Concert
ATTACH;FMTTYPE=image/jpeg:https://performingartscomoxvalley.ca/wp-content/uploads/2026/03/GSBB-Fundraiser-Aprill11th.jpg
END:VEVENT
BEGIN:VEVENT
DTSTART;TZID=America/Vancouver:20260321T193000
DTEND;TZID=America/Vancouver:20260321T220000
DTSTAMP:20260422T122335
CREATED:20251201T204327Z
LAST-MODIFIED:20251201T204327Z
UID:4194-1774121400-1774130400@performingartscomoxvalley.ca
SUMMARY:9 to 5
DESCRIPTION:9 to 5\, with music and lyrics by Dolly Parton\, is based on the seminal 1980 hit movie. Set in the late 1970s\, this hilarious story of friendship and revenge in the Rolodex era is outrageous\, thought-provoking and even a little romantic. \nPushed to the boiling point\, three female coworkers concoct a plan to get even with the sexist\, egotistical\, lying\, hypocritical bigot they call their boss. In a hilarious turn of events\, Violet\, Judy and Doralee live out their wildest fantasy – giving their boss the boot! While Hart remains “otherwise engaged\,” the women give their workplace a dream makeover\, taking control of the company that had always kept them down. Hey\, a girl can scheme\, can’t she?
URL:https://performingartscomoxvalley.ca/event/9-to-5-4/
LOCATION:Sid Williams Theatre\, 442 Cliffe Avenue\, Courtenay\, BC\, V9N 2J2\, Canada
CATEGORIES:Theatre
ATTACH;FMTTYPE=image/jpeg:https://performingartscomoxvalley.ca/wp-content/uploads/2025/12/SID-ARTWORK-1200-x-1200-px-website-final-3-scaled.jpg
ORGANIZER;CN="Three Legged Dog Productions":MAILTO:info@3ldp.ca
END:VEVENT
END:VCALENDAR